BEGIN:VCALENDAR
VERSION:2.0
PRODID:-//Volkstanzgruppe Hollenstedt - ECPv6.15.15//NONSGML v1.0//EN
CALSCALE:GREGORIAN
METHOD:PUBLISH
X-WR-CALNAME:Volkstanzgruppe Hollenstedt
X-ORIGINAL-URL:http://www.volkstanzgruppe-hollenstedt.de
X-WR-CALDESC:Veranstaltungen für Volkstanzgruppe Hollenstedt
REFRESH-INTERVAL;VALUE=DURATION:PT1H
X-Robots-Tag:noindex
X-PUBLISHED-TTL:PT1H
BEGIN:VTIMEZONE
TZID:Europe/Berlin
BEGIN:DAYLIGHT
TZOFFSETFROM:+0100
TZOFFSETTO:+0200
TZNAME:CEST
DTSTART:20190331T010000
END:DAYLIGHT
BEGIN:STANDARD
TZOFFSETFROM:+0200
TZOFFSETTO:+0100
TZNAME:CET
DTSTART:20191027T010000
END:STANDARD
BEGIN:DAYLIGHT
TZOFFSETFROM:+0100
TZOFFSETTO:+0200
TZNAME:CEST
DTSTART:20200329T010000
END:DAYLIGHT
BEGIN:STANDARD
TZOFFSETFROM:+0200
TZOFFSETTO:+0100
TZNAME:CET
DTSTART:20201025T010000
END:STANDARD
BEGIN:DAYLIGHT
TZOFFSETFROM:+0100
TZOFFSETTO:+0200
TZNAME:CEST
DTSTART:20210328T010000
END:DAYLIGHT
BEGIN:STANDARD
TZOFFSETFROM:+0200
TZOFFSETTO:+0100
TZNAME:CET
DTSTART:20211031T010000
END:STANDARD
END:VTIMEZONE
BEGIN:VEVENT
DTSTART;TZID=Europe/Berlin:20200209T100000
DTEND;TZID=Europe/Berlin:20200209T130000
DTSTAMP:20260426T043756
CREATED:20200117T195523Z
LAST-MODIFIED:20200117T220345Z
UID:714-1581242400-1581253200@www.volkstanzgruppe-hollenstedt.de
SUMMARY:Tanztreff 2/20 des Folklore-Arbeitskreis Nordheide-Elbmarsch (FANE)
DESCRIPTION:Der FANE ist ein Zusammenschluss etlicher Tanzgruppen\, die in der Region des Landkreis Harburg ansässig sind. Wir tanzen in etwa einmal im Monat zusammen\, bereiten gemeinsame Auftritte und Fahrten vor und haben einfach viel Spaß dabei. Hier sind alle Interessierten gern gesehen\, unabhängig von einer Teilnahme an den Auftritten und Fahrten.
URL:http://www.volkstanzgruppe-hollenstedt.de/event/uebungsvormittag-des-folklore-arbeitskreis-nordheide-elbmarsch-fane-7/
LOCATION:Günter Wendisch-Halle\, Am Glockenberg 2\, Hollenstedt\, 21279
ORGANIZER;CN="Folklore-Arbeitskreis Nordheide-Elbmarsch":MAILTO:FA-NE@gmx.de
END:VEVENT
BEGIN:VEVENT
DTSTART;TZID=Europe/Berlin:20200215T140000
DTEND;TZID=Europe/Berlin:20200215T140000
DTSTAMP:20260426T043756
CREATED:20200117T211840Z
LAST-MODIFIED:20200117T212030Z
UID:731-1581775200-1581775200@www.volkstanzgruppe-hollenstedt.de
SUMMARY:Gemeinsames Nähen
DESCRIPTION:Unsere Trachten und weitere Tanzbekleidungen/Kostüme sind in Handarbeit hergestellt. Dazu treffen sich die Aktiven\, die Zeit und Interesse haben\, in unregelmäßigen Abständen. Unter fachlich versierter Anleitung und mit gegenseitiger Hilfeleistung entstehen so in geselliger Runde schöne Kleidungsstücke. \nHeute liegt der Schwerpunkt auf der Herstellung von Kostümen.
URL:http://www.volkstanzgruppe-hollenstedt.de/event/gemeinsames-naehen/
LOCATION:Breitensteiner Allee 3\, Breitensteiner Allee 3\, Hollenstedt\, 21279
END:VEVENT
END:VCALENDAR