BEGIN:VCALENDAR
VERSION:2.0
PRODID:-//Volkstanzgruppe Hollenstedt - ECPv6.15.15//NONSGML v1.0//EN
CALSCALE:GREGORIAN
METHOD:PUBLISH
X-WR-CALNAME:Volkstanzgruppe Hollenstedt
X-ORIGINAL-URL:http://www.volkstanzgruppe-hollenstedt.de
X-WR-CALDESC:Veranstaltungen für Volkstanzgruppe Hollenstedt
REFRESH-INTERVAL;VALUE=DURATION:PT1H
X-Robots-Tag:noindex
X-PUBLISHED-TTL:PT1H
BEGIN:VTIMEZONE
TZID:Europe/Berlin
BEGIN:DAYLIGHT
TZOFFSETFROM:+0100
TZOFFSETTO:+0200
TZNAME:CEST
DTSTART:20190331T010000
END:DAYLIGHT
BEGIN:STANDARD
TZOFFSETFROM:+0200
TZOFFSETTO:+0100
TZNAME:CET
DTSTART:20191027T010000
END:STANDARD
BEGIN:DAYLIGHT
TZOFFSETFROM:+0100
TZOFFSETTO:+0200
TZNAME:CEST
DTSTART:20200329T010000
END:DAYLIGHT
BEGIN:STANDARD
TZOFFSETFROM:+0200
TZOFFSETTO:+0100
TZNAME:CET
DTSTART:20201025T010000
END:STANDARD
BEGIN:DAYLIGHT
TZOFFSETFROM:+0100
TZOFFSETTO:+0200
TZNAME:CEST
DTSTART:20210328T010000
END:DAYLIGHT
BEGIN:STANDARD
TZOFFSETFROM:+0200
TZOFFSETTO:+0100
TZNAME:CET
DTSTART:20211031T010000
END:STANDARD
END:VTIMEZONE
BEGIN:VEVENT
DTSTART;TZID=Europe/Berlin:20200301T143000
DTEND;TZID=Europe/Berlin:20200301T180000
DTSTAMP:20260426T030400
CREATED:20200117T221108Z
LAST-MODIFIED:20200117T221350Z
UID:734-1583073000-1583085600@www.volkstanzgruppe-hollenstedt.de
SUMMARY:Tanzfest 25 Jahre Folklore-Arbeitskreis Nordheide-Elbmarsch (FANE)
DESCRIPTION:FANE 25 Jahre
URL:http://www.volkstanzgruppe-hollenstedt.de/event/tanzfest-25-jahre-folklore-arbeitskreis-nordheide-elbmarsch-fane/
LOCATION:Zum Meierhof\, Buxtehuder Str. 3\, Tostedt\, 21255
ORGANIZER;CN="Folklore-Arbeitskreis Nordheide-Elbmarsch":MAILTO:FA-NE@gmx.de
END:VEVENT
BEGIN:VEVENT
DTSTART;TZID=Europe/Berlin:20200313T190000
DTEND;TZID=Europe/Berlin:20200315T133000
DTSTAMP:20260426T030400
CREATED:20200118T201349Z
LAST-MODIFIED:20200324T195552Z
UID:750-1584126000-1584279000@www.volkstanzgruppe-hollenstedt.de
SUMMARY:26. Musisches Wochenende in Sprötze - Volkstanzlehrgang und mehr
DESCRIPTION:Die Veranstaltung fällt aus! \nBunt Gemischtes – mit dem Tanzexpress um die Welt \nsprötze2020
URL:http://www.volkstanzgruppe-hollenstedt.de/event/26-musisches-wochenende-in-sproetze-volkstanzlehrgang-und-mehr/
LOCATION:Jugend-Ferienheim Sprötze\, Brunsbergweg 6\, Buchholz\, 21244
ORGANIZER;CN="Folklore-Arbeitskreis Nordheide-Elbmarsch":MAILTO:FA-NE@gmx.de
END:VEVENT
BEGIN:VEVENT
DTSTART;TZID=Europe/Berlin:20200322T100000
DTEND;TZID=Europe/Berlin:20200322T130000
DTSTAMP:20260426T030400
CREATED:20200117T201049Z
LAST-MODIFIED:20200324T195330Z
UID:716-1584871200-1584882000@www.volkstanzgruppe-hollenstedt.de
SUMMARY:Tanztreff 3/20 des Folklore-Arbeitskreis Nordheide-Elbmarsch (FANE)
DESCRIPTION:Die Veranstaltung fällt aus! \nDer FANE ist ein Zusammenschluss etlicher Tanzgruppen\, die in der Region des Landkreis Harburg ansässig sind. Wir tanzen in etwa einmal im Monat zusammen\, bereiten gemeinsame Auftritte und Fahrten vor und haben einfach viel Spaß dabei. Hier sind alle Interessierten gern gesehen\, unabhängig von einer Teilnahme an den Auftritten und Fahrten.
URL:http://www.volkstanzgruppe-hollenstedt.de/event/uebungsvormittag-des-folklore-arbeitskreis-nordheide-elbmarsch-fane-8/
LOCATION:Günter Wendisch-Halle\, Am Glockenberg 2\, Hollenstedt\, 21279
ORGANIZER;CN="Folklore-Arbeitskreis Nordheide-Elbmarsch":MAILTO:FA-NE@gmx.de
END:VEVENT
END:VCALENDAR