BEGIN:VCALENDAR
VERSION:2.0
PRODID:-//Volkstanzgruppe Hollenstedt - ECPv6.15.15//NONSGML v1.0//EN
CALSCALE:GREGORIAN
METHOD:PUBLISH
X-WR-CALNAME:Volkstanzgruppe Hollenstedt
X-ORIGINAL-URL:http://www.volkstanzgruppe-hollenstedt.de
X-WR-CALDESC:Veranstaltungen für Volkstanzgruppe Hollenstedt
REFRESH-INTERVAL;VALUE=DURATION:PT1H
X-Robots-Tag:noindex
X-PUBLISHED-TTL:PT1H
BEGIN:VTIMEZONE
TZID:Europe/Berlin
BEGIN:DAYLIGHT
TZOFFSETFROM:+0100
TZOFFSETTO:+0200
TZNAME:CEST
DTSTART:20190331T010000
END:DAYLIGHT
BEGIN:STANDARD
TZOFFSETFROM:+0200
TZOFFSETTO:+0100
TZNAME:CET
DTSTART:20191027T010000
END:STANDARD
BEGIN:DAYLIGHT
TZOFFSETFROM:+0100
TZOFFSETTO:+0200
TZNAME:CEST
DTSTART:20200329T010000
END:DAYLIGHT
BEGIN:STANDARD
TZOFFSETFROM:+0200
TZOFFSETTO:+0100
TZNAME:CET
DTSTART:20201025T010000
END:STANDARD
BEGIN:DAYLIGHT
TZOFFSETFROM:+0100
TZOFFSETTO:+0200
TZNAME:CEST
DTSTART:20210328T010000
END:DAYLIGHT
BEGIN:STANDARD
TZOFFSETFROM:+0200
TZOFFSETTO:+0100
TZNAME:CET
DTSTART:20211031T010000
END:STANDARD
END:VTIMEZONE
BEGIN:VEVENT
DTSTART;TZID=Europe/Berlin:20200614T100000
DTEND;TZID=Europe/Berlin:20200614T130000
DTSTAMP:20260425T225620
CREATED:20200117T201819Z
LAST-MODIFIED:20200117T220018Z
UID:722-1592128800-1592139600@www.volkstanzgruppe-hollenstedt.de
SUMMARY:Tanztreff 6/20 des Folklore-Arbeitskreis Nordheide-Elbmarsch (FANE)
DESCRIPTION:Der FANE ist ein Zusammenschluss etlicher Tanzgruppen\, die in der Region des Landkreis Harburg ansässig sind. Wir tanzen in etwa einmal im Monat zusammen\, bereiten gemeinsame Auftritte und Fahrten vor und haben einfach viel Spaß dabei. Hier sind alle Interessierten gern gesehen\, unabhängig von einer Teilnahme an den Auftritten und Fahrten.
URL:http://www.volkstanzgruppe-hollenstedt.de/event/uebungsvormittag-des-folklore-arbeitskreis-nordheide-elbmarsch-fane-11/
LOCATION:Günter Wendisch-Halle\, Am Glockenberg 2\, Hollenstedt\, 21279
ORGANIZER;CN="Folklore-Arbeitskreis Nordheide-Elbmarsch":MAILTO:FA-NE@gmx.de
END:VEVENT
BEGIN:VEVENT
DTSTART;TZID=Europe/Berlin:20200627T150000
DTEND;TZID=Europe/Berlin:20200627T170000
DTSTAMP:20260425T225620
CREATED:20200207T171725Z
LAST-MODIFIED:20200207T171741Z
UID:794-1593270000-1593277200@www.volkstanzgruppe-hollenstedt.de
SUMMARY:Museumsfest beim Sniers Hus
DESCRIPTION:Beim Museumsfest werden wir nicht nur unser Können präsentieren sondern laden alle Gäste zum Mittanzen ein. 
URL:http://www.volkstanzgruppe-hollenstedt.de/event/museumsfest-beim-sniers-hus/
LOCATION:Sniershus\, Zum Mühlenteich 3\, Buchholz\, 21244
END:VEVENT
END:VCALENDAR