BEGIN:VCALENDAR
VERSION:2.0
PRODID:-//Volkstanzgruppe Hollenstedt - ECPv6.15.15//NONSGML v1.0//EN
CALSCALE:GREGORIAN
METHOD:PUBLISH
X-WR-CALNAME:Volkstanzgruppe Hollenstedt
X-ORIGINAL-URL:http://www.volkstanzgruppe-hollenstedt.de
X-WR-CALDESC:Veranstaltungen für Volkstanzgruppe Hollenstedt
REFRESH-INTERVAL;VALUE=DURATION:PT1H
X-Robots-Tag:noindex
X-PUBLISHED-TTL:PT1H
BEGIN:VTIMEZONE
TZID:Europe/Berlin
BEGIN:DAYLIGHT
TZOFFSETFROM:+0100
TZOFFSETTO:+0200
TZNAME:CEST
DTSTART:20210328T010000
END:DAYLIGHT
BEGIN:STANDARD
TZOFFSETFROM:+0200
TZOFFSETTO:+0100
TZNAME:CET
DTSTART:20211031T010000
END:STANDARD
BEGIN:DAYLIGHT
TZOFFSETFROM:+0100
TZOFFSETTO:+0200
TZNAME:CEST
DTSTART:20220327T010000
END:DAYLIGHT
BEGIN:STANDARD
TZOFFSETFROM:+0200
TZOFFSETTO:+0100
TZNAME:CET
DTSTART:20221030T010000
END:STANDARD
BEGIN:DAYLIGHT
TZOFFSETFROM:+0100
TZOFFSETTO:+0200
TZNAME:CEST
DTSTART:20230326T010000
END:DAYLIGHT
BEGIN:STANDARD
TZOFFSETFROM:+0200
TZOFFSETTO:+0100
TZNAME:CET
DTSTART:20231029T010000
END:STANDARD
END:VTIMEZONE
BEGIN:VEVENT
DTSTART;TZID=Europe/Berlin:20221106T143000
DTEND;TZID=Europe/Berlin:20221106T180000
DTSTAMP:20260423T084718
CREATED:20221017T185704Z
LAST-MODIFIED:20221017T191929Z
UID:1049-1667745000-1667757600@www.volkstanzgruppe-hollenstedt.de
SUMMARY:Volkstanzfest - Sei dabei!
DESCRIPTION:Der Folklore-Arbeitskreis Nordheide-Elbmarsch (FANE) lädt ein zum Volkstanzfest. Erlebe lebendigen Volkstanz mit wunderbarer Live-Musik der Gruppe FolkWin. Tanz mit und hab Spaß\, ob in Tracht oder in Zivil\, ganz wie du dich wohlfühlst! Um Anmeldung wird gebeten. \nDer FANE ist ein Zusammenschluss mehrerer Volkstanz- und Trachtengruppen sowie von Einzelpersonen im Landkreis Harburg. Die Volkstanzgruppe Hollenstedt ist eine der sehr aktiven Gruppen im Arbeitskreis.
URL:http://www.volkstanzgruppe-hollenstedt.de/event/volkstanzfest-sei-dabei/
LOCATION:Zum Meierhof\, Buxtehuder Str. 3\, Tostedt\, 21255
ORGANIZER;CN="Folklore-Arbeitskreis Nordheide-Elbmarsch":MAILTO:FA-NE@gmx.de
END:VEVENT
END:VCALENDAR