BEGIN:VCALENDAR
VERSION:2.0
PRODID:-//Volkstanzgruppe Hollenstedt - ECPv6.15.15//NONSGML v1.0//EN
CALSCALE:GREGORIAN
METHOD:PUBLISH
X-ORIGINAL-URL:http://www.volkstanzgruppe-hollenstedt.de
X-WR-CALDESC:Veranstaltungen für Volkstanzgruppe Hollenstedt
REFRESH-INTERVAL;VALUE=DURATION:PT1H
X-Robots-Tag:noindex
X-PUBLISHED-TTL:PT1H
BEGIN:VTIMEZONE
TZID:Europe/Berlin
BEGIN:DAYLIGHT
TZOFFSETFROM:+0100
TZOFFSETTO:+0200
TZNAME:CEST
DTSTART:20220327T010000
END:DAYLIGHT
BEGIN:STANDARD
TZOFFSETFROM:+0200
TZOFFSETTO:+0100
TZNAME:CET
DTSTART:20221030T010000
END:STANDARD
BEGIN:DAYLIGHT
TZOFFSETFROM:+0100
TZOFFSETTO:+0200
TZNAME:CEST
DTSTART:20230326T010000
END:DAYLIGHT
BEGIN:STANDARD
TZOFFSETFROM:+0200
TZOFFSETTO:+0100
TZNAME:CET
DTSTART:20231029T010000
END:STANDARD
BEGIN:DAYLIGHT
TZOFFSETFROM:+0100
TZOFFSETTO:+0200
TZNAME:CEST
DTSTART:20240331T010000
END:DAYLIGHT
BEGIN:STANDARD
TZOFFSETFROM:+0200
TZOFFSETTO:+0100
TZNAME:CET
DTSTART:20241027T010000
END:STANDARD
END:VTIMEZONE
BEGIN:VEVENT
DTSTART;TZID=Europe/Berlin:20230129T100000
DTEND;TZID=Europe/Berlin:20230129T170000
DTSTAMP:20260423T054614
CREATED:20221017T193300Z
LAST-MODIFIED:20221031T143539Z
UID:1058-1674986400-1675011600@www.volkstanzgruppe-hollenstedt.de
SUMMARY:Volkstanzlehrgang in Hollenstedt
DESCRIPTION:Der Folklore-Arbeitskreis Nordheide-Elbmarsch (FANE) lädt ein zum Tanzlehrgang. Wir werden eine Mischung von Tänzen erarbeiten\, wie sie auf vielen Tanzfesten getanzt werden. Sie sollen auch Einsteigern Spaß am Tanzen vermitteln. Referenten: Birgit Kleinekampmann und Erwin Eickhoff. Um Anmeldung wird gebeten.  \nDetails: Einladung Tanzlehrgang 29.01.2023
URL:http://www.volkstanzgruppe-hollenstedt.de/event/volkstanzlehrgang-in-hollenstedt/
LOCATION:Günter Wendisch-Halle\, Am Glockenberg 2\, Hollenstedt\, 21279
ORGANIZER;CN="Folklore-Arbeitskreis Nordheide-Elbmarsch":MAILTO:FA-NE@gmx.de
END:VEVENT
END:VCALENDAR