BEGIN:VCALENDAR
VERSION:2.0
PRODID:-//Volkstanzgruppe Hollenstedt - ECPv6.15.15//NONSGML v1.0//EN
CALSCALE:GREGORIAN
METHOD:PUBLISH
X-ORIGINAL-URL:http://www.volkstanzgruppe-hollenstedt.de
X-WR-CALDESC:Veranstaltungen für Volkstanzgruppe Hollenstedt
REFRESH-INTERVAL;VALUE=DURATION:PT1H
X-Robots-Tag:noindex
X-PUBLISHED-TTL:PT1H
BEGIN:VTIMEZONE
TZID:Europe/Berlin
BEGIN:DAYLIGHT
TZOFFSETFROM:+0100
TZOFFSETTO:+0200
TZNAME:CEST
DTSTART:20220327T010000
END:DAYLIGHT
BEGIN:STANDARD
TZOFFSETFROM:+0200
TZOFFSETTO:+0100
TZNAME:CET
DTSTART:20221030T010000
END:STANDARD
BEGIN:DAYLIGHT
TZOFFSETFROM:+0100
TZOFFSETTO:+0200
TZNAME:CEST
DTSTART:20230326T010000
END:DAYLIGHT
BEGIN:STANDARD
TZOFFSETFROM:+0200
TZOFFSETTO:+0100
TZNAME:CET
DTSTART:20231029T010000
END:STANDARD
BEGIN:DAYLIGHT
TZOFFSETFROM:+0100
TZOFFSETTO:+0200
TZNAME:CEST
DTSTART:20240331T010000
END:DAYLIGHT
BEGIN:STANDARD
TZOFFSETFROM:+0200
TZOFFSETTO:+0100
TZNAME:CET
DTSTART:20241027T010000
END:STANDARD
END:VTIMEZONE
BEGIN:VEVENT
DTSTART;TZID=Europe/Berlin:20230604T100000
DTEND;TZID=Europe/Berlin:20230604T130000
DTSTAMP:20260422T215651
CREATED:20230223T210344Z
LAST-MODIFIED:20230223T210344Z
UID:1180-1685872800-1685883600@www.volkstanzgruppe-hollenstedt.de
SUMMARY:Tanztreff 5/2023 des FANE
DESCRIPTION:Der FANE (Folklore-Arbeitskreis Nordheide-Elbmarsch) ist ein Zusammenschluss etlicher Tanzgruppen\, die in der Region des Landkreis Harburg ansässig sind. Wir tanzen in etwa einmal im Monat zusammen\, bereiten gemeinsame Auftritte und Fahrten vor und haben einfach viel Spaß dabei. Hier sind alle Interessenten gern gesehen\, unabhängig von einer Teilnahme an den Auftritten und Fahrten.
URL:http://www.volkstanzgruppe-hollenstedt.de/event/tanztreff-5-2023-des-fane/
LOCATION:Günter Wendisch-Halle\, Am Glockenberg 2\, Hollenstedt\, 21279
ORGANIZER;CN="Folklore-Arbeitskreis Nordheide-Elbmarsch":MAILTO:FA-NE@gmx.de
END:VEVENT
BEGIN:VEVENT
DTSTART;TZID=Europe/Berlin:20230604T140000
DTEND;TZID=Europe/Berlin:20230604T180000
DTSTAMP:20260422T215651
CREATED:20230223T214655Z
LAST-MODIFIED:20230223T214655Z
UID:1190-1685887200-1685901600@www.volkstanzgruppe-hollenstedt.de
SUMMARY:Tanzfest in Wendisch-Evern
DESCRIPTION:Schon lange Tradition hat das Tanzfest unter freiem Himmel bei der Alten Schule in Wendisch-Evern. Wir sind immer gerne dabei\, wenn die Lüneburger Volkstanzgemeinschaft und Musikant Martin Ströfer einladen. 
URL:http://www.volkstanzgruppe-hollenstedt.de/event/tanzfest-in-wendisch-evern/
LOCATION:Alte Schule\, Ringstr. 8\, Wendisch-Evern\, 21403
END:VEVENT
BEGIN:VEVENT
DTSTART;VALUE=DATE:20230610
DTEND;VALUE=DATE:20230611
DTSTAMP:20260422T215651
CREATED:20230223T215854Z
LAST-MODIFIED:20230223T215854Z
UID:1195-1686355200-1686441599@www.volkstanzgruppe-hollenstedt.de
SUMMARY:450 Jahre Schule in Moisburg
DESCRIPTION:450 Jahre Schule – ein Grund zum Feiern. Wir sind mit einem Auftritt dabei und natürlich dürft ihr alle mittanzen!
URL:http://www.volkstanzgruppe-hollenstedt.de/event/450-jahre-schule-in-moisburg/
LOCATION:Grundschule Moisburg\, Karkenstieg 16\, Moisburg\, 21647
END:VEVENT
BEGIN:VEVENT
DTSTART;VALUE=DATE:20230617
DTEND;VALUE=DATE:20230618
DTSTAMP:20260422T215651
CREATED:20230223T221939Z
LAST-MODIFIED:20230223T221939Z
UID:1199-1686960000-1687046399@www.volkstanzgruppe-hollenstedt.de
SUMMARY:Museumsfest in Seppensen
DESCRIPTION:Das Sniers Hus aus Regesbostel steht seit 1986 in Seppensen und bildet mit weiteren sehenswerten historischen Gebäuden eine wunderbare Kulisse für einen Auftritt im Rahmen des Museumsfestes. Natürlich bietet das Museumsfest noch etliche weitere Aktionen\, die einen Besuch dieser Veranstaltung für die ganze Familie lohnenswert machen.
URL:http://www.volkstanzgruppe-hollenstedt.de/event/museumsfest-in-seppensen/
LOCATION:Museumsdorf Seppensen\, Zum Mühlenteich 3\, Buchholz\, 21244
END:VEVENT
END:VCALENDAR