BEGIN:VCALENDAR
VERSION:2.0
PRODID:-//Volkstanzgruppe Hollenstedt - ECPv6.15.15//NONSGML v1.0//EN
CALSCALE:GREGORIAN
METHOD:PUBLISH
X-WR-CALNAME:Volkstanzgruppe Hollenstedt
X-ORIGINAL-URL:http://www.volkstanzgruppe-hollenstedt.de
X-WR-CALDESC:Veranstaltungen für Volkstanzgruppe Hollenstedt
REFRESH-INTERVAL;VALUE=DURATION:PT1H
X-Robots-Tag:noindex
X-PUBLISHED-TTL:PT1H
BEGIN:VTIMEZONE
TZID:Europe/Berlin
BEGIN:DAYLIGHT
TZOFFSETFROM:+0100
TZOFFSETTO:+0200
TZNAME:CEST
DTSTART:20220327T010000
END:DAYLIGHT
BEGIN:STANDARD
TZOFFSETFROM:+0200
TZOFFSETTO:+0100
TZNAME:CET
DTSTART:20221030T010000
END:STANDARD
BEGIN:DAYLIGHT
TZOFFSETFROM:+0100
TZOFFSETTO:+0200
TZNAME:CEST
DTSTART:20230326T010000
END:DAYLIGHT
BEGIN:STANDARD
TZOFFSETFROM:+0200
TZOFFSETTO:+0100
TZNAME:CET
DTSTART:20231029T010000
END:STANDARD
BEGIN:DAYLIGHT
TZOFFSETFROM:+0100
TZOFFSETTO:+0200
TZNAME:CEST
DTSTART:20240331T010000
END:DAYLIGHT
BEGIN:STANDARD
TZOFFSETFROM:+0200
TZOFFSETTO:+0100
TZNAME:CET
DTSTART:20241027T010000
END:STANDARD
END:VTIMEZONE
BEGIN:VEVENT
DTSTART;TZID=Europe/Berlin:20230702T100000
DTEND;TZID=Europe/Berlin:20230702T130000
DTSTAMP:20260422T201643
CREATED:20230223T212623Z
LAST-MODIFIED:20230223T212623Z
UID:1184-1688292000-1688302800@www.volkstanzgruppe-hollenstedt.de
SUMMARY:Generalprobe für die Europeade in Gotha
DESCRIPTION:Endspurt: In ein paar Tagen geht es los zur Europeade\, ein Treffen von mehreren tausend TänzerInnen und Besuchern aus ganz Europa. Heute wird noch einmal für die Auftritte dort geprobt.
URL:http://www.volkstanzgruppe-hollenstedt.de/event/generalprobe-fuer-die-europeade-in-gotha/
LOCATION:Günter Wendisch-Halle\, Am Glockenberg 2\, Hollenstedt\, 21279
ORGANIZER;CN="Folklore-Arbeitskreis Nordheide-Elbmarsch":MAILTO:FA-NE@gmx.de
END:VEVENT
BEGIN:VEVENT
DTSTART;VALUE=DATE:20230712
DTEND;VALUE=DATE:20230717
DTSTAMP:20260422T201643
CREATED:20221031T151645Z
LAST-MODIFIED:20221031T151645Z
UID:1066-1689120000-1689551999@www.volkstanzgruppe-hollenstedt.de
SUMMARY:Europeade 2023 in Gotha
DESCRIPTION:Die Europeade findet jährlich mit ca. 5.000 Teilnehmenden in wechselnden Städten in Europa statt. Die Vielfalt der Kulturen Europas wird hier sichtbar und vor allem auch\, wie Musik und Tanz über Grenzen und Sprachbarrieren hinweg verbinden. Freundschaften entstehen und werden gepflegt. \nWir\, die Aktiven der Volkstanzgruppe Hollenstedt\, nehmen bereits seit 1998 regelmäßig an der Europeade teil und sind so schon in vielen Ländern Europas gewesen. In 2023 findet die Veranstaltung in Deutschland statt und wir sind selbstverständlich wieder dabei.  \nWeitere Informationen zur Veranstaltung: \nhttps://europeade-gotha.de/ \nhttps://www.europeade.eu/de/home \nIhr möchtet auch dabei sein? Sprecht uns an!
URL:http://www.volkstanzgruppe-hollenstedt.de/event/europeade-2023-in-gotha/
END:VEVENT
END:VCALENDAR