BEGIN:VCALENDAR
VERSION:2.0
PRODID:-//Volkstanzgruppe Hollenstedt - ECPv6.15.15//NONSGML v1.0//EN
CALSCALE:GREGORIAN
METHOD:PUBLISH
X-ORIGINAL-URL:http://www.volkstanzgruppe-hollenstedt.de
X-WR-CALDESC:Veranstaltungen für Volkstanzgruppe Hollenstedt
REFRESH-INTERVAL;VALUE=DURATION:PT1H
X-Robots-Tag:noindex
X-PUBLISHED-TTL:PT1H
BEGIN:VTIMEZONE
TZID:Europe/Berlin
BEGIN:DAYLIGHT
TZOFFSETFROM:+0100
TZOFFSETTO:+0200
TZNAME:CEST
DTSTART:20220327T010000
END:DAYLIGHT
BEGIN:STANDARD
TZOFFSETFROM:+0200
TZOFFSETTO:+0100
TZNAME:CET
DTSTART:20221030T010000
END:STANDARD
BEGIN:DAYLIGHT
TZOFFSETFROM:+0100
TZOFFSETTO:+0200
TZNAME:CEST
DTSTART:20230326T010000
END:DAYLIGHT
BEGIN:STANDARD
TZOFFSETFROM:+0200
TZOFFSETTO:+0100
TZNAME:CET
DTSTART:20231029T010000
END:STANDARD
BEGIN:DAYLIGHT
TZOFFSETFROM:+0100
TZOFFSETTO:+0200
TZNAME:CEST
DTSTART:20240331T010000
END:DAYLIGHT
BEGIN:STANDARD
TZOFFSETFROM:+0200
TZOFFSETTO:+0100
TZNAME:CET
DTSTART:20241027T010000
END:STANDARD
END:VTIMEZONE
BEGIN:VEVENT
DTSTART;TZID=Europe/Berlin:20231014T150000
DTEND;TZID=Europe/Berlin:20231018T130000
DTSTAMP:20260422T151633
CREATED:20230224T185350Z
LAST-MODIFIED:20230224T185350Z
UID:1217-1697295600-1697634000@www.volkstanzgruppe-hollenstedt.de
SUMMARY:Fredeburger Volkstanzkurs
DESCRIPTION:Tanzen\, Musizieren\, Singen\, Spielen\, Fachsimpeln und vor allem wunderschöne Tage gemeinsam erleben. Seit mehr als 25 Jahren nehmen regelmäßig einige unserer Mitglieder an dieser Fortbildung mit wechselnden Referenten teil bzw. waren als Referent dort tätig. 
URL:http://www.volkstanzgruppe-hollenstedt.de/event/fredeburger-volkstanzkurs-2/
LOCATION:Musikbildungszentrum Südwestfalen\, Johannes-Hummel-Weg 1\, Bad Fredeburg\, 57392
END:VEVENT
BEGIN:VEVENT
DTSTART;TZID=Europe/Berlin:20231022T100000
DTEND;TZID=Europe/Berlin:20231022T100000
DTSTAMP:20260422T151633
CREATED:20230224T184304Z
LAST-MODIFIED:20230904T191235Z
UID:1213-1697968800-1697968800@www.volkstanzgruppe-hollenstedt.de
SUMMARY:Volkstanzlehrgang in Hollenstedt
DESCRIPTION:Eine bunte Mischung von Tänzen aus Deutschland und diversen anderen Ländern in verschiedenen Aufstellungen erwarten euch. Leitung: Erwin Eickhoff und Birgit Kleinekampmann. Um Anmeldung wird gebeten.
URL:http://www.volkstanzgruppe-hollenstedt.de/event/volkstanzlehrgang-in-hollenstedt-2/
LOCATION:Günter Wendisch-Halle\, Am Glockenberg 2\, Hollenstedt\, 21279
ORGANIZER;CN="Folklore-Arbeitskreis Nordheide-Elbmarsch":MAILTO:FA-NE@gmx.de
END:VEVENT
END:VCALENDAR