BEGIN:VCALENDAR
VERSION:2.0
PRODID:-//Volkstanzgruppe Hollenstedt - ECPv6.15.15//NONSGML v1.0//EN
CALSCALE:GREGORIAN
METHOD:PUBLISH
X-WR-CALNAME:Volkstanzgruppe Hollenstedt
X-ORIGINAL-URL:http://www.volkstanzgruppe-hollenstedt.de
X-WR-CALDESC:Veranstaltungen für Volkstanzgruppe Hollenstedt
REFRESH-INTERVAL;VALUE=DURATION:PT1H
X-Robots-Tag:noindex
X-PUBLISHED-TTL:PT1H
BEGIN:VTIMEZONE
TZID:Europe/Berlin
BEGIN:DAYLIGHT
TZOFFSETFROM:+0100
TZOFFSETTO:+0200
TZNAME:CEST
DTSTART:20220327T010000
END:DAYLIGHT
BEGIN:STANDARD
TZOFFSETFROM:+0200
TZOFFSETTO:+0100
TZNAME:CET
DTSTART:20221030T010000
END:STANDARD
BEGIN:DAYLIGHT
TZOFFSETFROM:+0100
TZOFFSETTO:+0200
TZNAME:CEST
DTSTART:20230326T010000
END:DAYLIGHT
BEGIN:STANDARD
TZOFFSETFROM:+0200
TZOFFSETTO:+0100
TZNAME:CET
DTSTART:20231029T010000
END:STANDARD
BEGIN:DAYLIGHT
TZOFFSETFROM:+0100
TZOFFSETTO:+0200
TZNAME:CEST
DTSTART:20240331T010000
END:DAYLIGHT
BEGIN:STANDARD
TZOFFSETFROM:+0200
TZOFFSETTO:+0100
TZNAME:CET
DTSTART:20241027T010000
END:STANDARD
END:VTIMEZONE
BEGIN:VEVENT
DTSTART;TZID=Europe/Berlin:20231105T143000
DTEND;TZID=Europe/Berlin:20231105T180000
DTSTAMP:20260422T133415
CREATED:20231029T124103Z
LAST-MODIFIED:20231029T124103Z
UID:1275-1699194600-1699207200@www.volkstanzgruppe-hollenstedt.de
SUMMARY:Volkstanzfest
DESCRIPTION:Zu Live-Musik von FolkWin führen Birgit Kleinekampmann und Erwin Eickhoff durch das abwechslungsreiche Programm. Kaffee und Kuchen werden vom Wirt angeboten.  \nSei dabei\, egal\, ob du schon Tanzerfahrung hast oder nicht\, hier stehen Spaß und Geselligkeit im Vordergrund. \nTanzfest 2023 Einladung
URL:http://www.volkstanzgruppe-hollenstedt.de/event/volkstanzfest/
LOCATION:Zum Meierhof\, Buxtehuder Str. 3\, Tostedt\, 21255
ORGANIZER;CN="Folklore-Arbeitskreis Nordheide-Elbmarsch":MAILTO:FA-NE@gmx.de
END:VEVENT
BEGIN:VEVENT
DTSTART;TZID=Europe/Berlin:20231124T180000
DTEND;TZID=Europe/Berlin:20231126T130000
DTSTAMP:20260422T133415
CREATED:20230224T190308Z
LAST-MODIFIED:20230224T190308Z
UID:1219-1700848800-1701003600@www.volkstanzgruppe-hollenstedt.de
SUMMARY:Lehrgang des LTN in Bredbeck
DESCRIPTION:Dieser Lehrgang wird von einigen unserer Mitglieder seit Jahren besucht. Eine Besonderheit ist der parallel zum Tanzlehrgang stattfindende Musikerlehrgang. In den Abendstunden werden beide Teilnehmergruppen zusammengeführt.
URL:http://www.volkstanzgruppe-hollenstedt.de/event/lehrgang-des-ltn-in-bredbeck/
LOCATION:Bildungsstätte Bredbeck\, An der Wassermühle 30\, Osterholz-Scharmbeck\, 27711
END:VEVENT
END:VCALENDAR