BEGIN:VCALENDAR
VERSION:2.0
PRODID:-//Volkstanzgruppe Hollenstedt - ECPv6.15.15//NONSGML v1.0//EN
CALSCALE:GREGORIAN
METHOD:PUBLISH
X-ORIGINAL-URL:http://www.volkstanzgruppe-hollenstedt.de
X-WR-CALDESC:Veranstaltungen für Volkstanzgruppe Hollenstedt
REFRESH-INTERVAL;VALUE=DURATION:PT1H
X-Robots-Tag:noindex
X-PUBLISHED-TTL:PT1H
BEGIN:VTIMEZONE
TZID:Europe/Berlin
BEGIN:DAYLIGHT
TZOFFSETFROM:+0100
TZOFFSETTO:+0200
TZNAME:CEST
DTSTART:20230326T010000
END:DAYLIGHT
BEGIN:STANDARD
TZOFFSETFROM:+0200
TZOFFSETTO:+0100
TZNAME:CET
DTSTART:20231029T010000
END:STANDARD
BEGIN:DAYLIGHT
TZOFFSETFROM:+0100
TZOFFSETTO:+0200
TZNAME:CEST
DTSTART:20240331T010000
END:DAYLIGHT
BEGIN:STANDARD
TZOFFSETFROM:+0200
TZOFFSETTO:+0100
TZNAME:CET
DTSTART:20241027T010000
END:STANDARD
BEGIN:DAYLIGHT
TZOFFSETFROM:+0100
TZOFFSETTO:+0200
TZNAME:CEST
DTSTART:20250330T010000
END:DAYLIGHT
BEGIN:STANDARD
TZOFFSETFROM:+0200
TZOFFSETTO:+0100
TZNAME:CET
DTSTART:20251026T010000
END:STANDARD
END:VTIMEZONE
BEGIN:VEVENT
DTSTART;TZID=Europe/Berlin:20240301T190000
DTEND;TZID=Europe/Berlin:20240303T133000
DTSTAMP:20260422T075901
CREATED:20231029T114431Z
LAST-MODIFIED:20231029T114431Z
UID:1267-1709319600-1709472600@www.volkstanzgruppe-hollenstedt.de
SUMMARY:Musisches Wochenende in Sprötze
DESCRIPTION:Bunt Gemischtes – Mit dem Tanzexpress um die Welt \nWir werden an diesem Wochenende tanzen\, singen und spielen und dabei Volkstänze aus verschiedenen Ländern für Jung und Alt mit Live-Musik erarbeiten. Die Abende werden mit geselligem Tanz und gemütlichem Beisammensein ausklingen. \nDie Unterbringung erfolgt in Zwei- und Mehrbettzimmern\, jeweils mit Gemeinschaftsdusche. \nWeitere Infos: \nSprötze 2024 – Einladung
URL:http://www.volkstanzgruppe-hollenstedt.de/event/musisches-wochenende-in-sproetze-2/
LOCATION:Jugend-Ferienheim Sprötze\, Brunsbergweg 6\, Buchholz\, 21244
ORGANIZER;CN="Volkstanz- und Trachtengruppe Kiekeberg e.V":MAILTO:fa-ne@gmx.de
END:VEVENT
BEGIN:VEVENT
DTSTART;TZID=Europe/Berlin:20240310T100000
DTEND;TZID=Europe/Berlin:20240310T130000
DTSTAMP:20260422T075901
CREATED:20231029T203422Z
LAST-MODIFIED:20231029T203422Z
UID:1281-1710064800-1710075600@www.volkstanzgruppe-hollenstedt.de
SUMMARY:Tanztreff 2/2024 des FANE
DESCRIPTION:Der FANE (Folklore-Arbeitskreis Nordheide-Elbmarsch) ist ein Zusammenschluss mehrerer Tanzgruppen\, die in der Region des Landkreis Harburg und darüber hinaus ansässig sind. Wir tanzen in etwa einmal im Monat zusammen\, bereiten bei Bedarf gemeinsame Auftritte und Fahrten vor und haben einfach viel Spaß dabei. Hier sind alle Interessierten gern gesehen\, unabhängig von einer Mitgliedschaft in einer Tanzgruppe oder der Teilnahme an den Auftritten und Fahrten. 
URL:http://www.volkstanzgruppe-hollenstedt.de/event/tanztreff-2-2024-des-fane/
LOCATION:Günter Wendisch-Halle\, Am Glockenberg 2\, Hollenstedt\, 21279
ORGANIZER;CN="Folklore-Arbeitskreis Nordheide-Elbmarsch":MAILTO:FA-NE@gmx.de
END:VEVENT
END:VCALENDAR